Package: MultiMed
Version: 2.26.0
Command: rm -rf MultiMed.buildbin-libdir && mkdir MultiMed.buildbin-libdir && E:\biocbuild\bbs-3.19-bioc\R\bin\R.exe CMD INSTALL --build --library=MultiMed.buildbin-libdir MultiMed_2.26.0.tar.gz
StartedAt: 2024-10-17 08:13:34 -0400 (Thu, 17 Oct 2024)
EndedAt: 2024-10-17 08:13:39 -0400 (Thu, 17 Oct 2024)
EllapsedTime: 5.0 seconds
RetCode: 0
Status: OK
PackageFile: MultiMed_2.26.0.zip
PackageFileSize: 448.3 <A href="http://en.wikipedia.org/wiki/KiB" target="_blank">KiB</A>