Package: MultiAssayExperiment
Version: 1.30.3
Maintainer: Marcel Ramos
MaintainerEmail: marcel.ramos at roswellpark.org
git_url: https://git.bioconductor.org/packages/MultiAssayExperiment
git_branch: RELEASE_3_19
git_last_commit: cf9fcf0
git_last_commit_date: 2024-07-08 15:06:23 -0400 (Mon, 08 Jul 2024)