Package: MsQuality
Version: 1.4.0
Command: rm -rf MsQuality.buildbin-libdir && mkdir MsQuality.buildbin-libdir && /Users/biocbuild/BBS/utils/build-universal.sh MsQuality_1.4.0.tar.gz /Library/Frameworks/R.framework/Resources/bin/R MsQuality.buildbin-libdir
StartedAt: 2024-06-10 00:28:42 -0400 (Mon, 10 Jun 2024)
EndedAt: 2024-06-10 00:29:27 -0400 (Mon, 10 Jun 2024)
EllapsedTime: 45.3 seconds
RetCode: 0
Status: OK
PackageFile: MsQuality_1.4.0.tgz
PackageFileSize: 4.376 <A href="http://en.wikipedia.org/wiki/MiB" target="_blank">MiB</A>