Package: MsFeatures
Version: 1.12.0
Maintainer: Johannes Rainer
MaintainerEmail: Johannes.Rainer at eurac.edu
git_url: https://git.bioconductor.org/packages/MsFeatures
git_branch: RELEASE_3_19
git_last_commit: 15d11e8
git_last_commit_date: 2024-04-30 11:30:54 -0400 (Tue, 30 Apr 2024)