Package: MouseFM
Version: 1.14.6
Maintainer: Matthias Munz
MaintainerEmail: matthias.munz at gmx.de
git_url: https://git.bioconductor.org/packages/MouseFM
git_branch: RELEASE_3_19
git_last_commit: e104825
git_last_commit_date: 2024-09-04 15:44:21 -0400 (Wed, 04 Sep 2024)