Package: MotifDb
Version: 1.46.0
Maintainer: Paul Shannon
MaintainerEmail: pshannon at systemsbiology.org
git_url: https://git.bioconductor.org/packages/MotifDb
git_branch: RELEASE_3_19
git_last_commit: 612f541
git_last_commit_date: 2024-04-30 10:28:32 -0400 (Tue, 30 Apr 2024)