Package: MobilityTransformR
Version: 1.8.0
Command: /Library/Frameworks/R.framework/Resources/bin/R CMD INSTALL MobilityTransformR
StartedAt: 2024-06-09 16:40:11 -0400 (Sun, 09 Jun 2024)
EndedAt: 2024-06-09 16:41:02 -0400 (Sun, 09 Jun 2024)
EllapsedTime: 51.3 seconds
RetCode: 0
Status: OK