Package: MinimumDistance Version: 1.48.0 Maintainer: Robert Scharpf MaintainerEmail: rscharpf at jhu.edu git_url: https://git.bioconductor.org/packages/MinimumDistance git_branch: RELEASE_3_19 git_last_commit: d036459 git_last_commit_date: 2024-04-30 10:27:38 -0400 (Tue, 30 Apr 2024)