Package: MineICA
Version: 1.44.0
Command: /home/biocbuild/bbs-3.19-bioc/R/bin/R CMD build --keep-empty-dirs --no-resave-data MineICA
StartedAt: 2024-10-16 19:29:14 -0400 (Wed, 16 Oct 2024)
EndedAt: 2024-10-16 19:31:08 -0400 (Wed, 16 Oct 2024)
EllapsedTime: 114.2 seconds
RetCode: 0
Status: OK
PackageFile: MineICA_1.44.0.tar.gz
PackageFileSize: 1.434 <A href="http://en.wikipedia.org/wiki/MiB" target="_blank">MiB</A>