Package: MineICA
Version: 1.44.0
Command: /Library/Frameworks/R.framework/Resources/bin/R CMD INSTALL MineICA
StartedAt: 2024-06-09 15:43:20 -0400 (Sun, 09 Jun 2024)
EndedAt: 2024-06-09 15:44:09 -0400 (Sun, 09 Jun 2024)
EllapsedTime: 48.5 seconds
RetCode: 0
Status: OK