Package: MineICA
Version: 1.44.0
Command: /Library/Frameworks/R.framework/Resources/bin/R CMD check --install=check:MineICA.install-out.txt --library=/Library/Frameworks/R.framework/Resources/library --no-vignettes --timings MineICA_1.44.0.tar.gz
StartedAt: 2024-06-09 21:32:15 -0400 (Sun, 09 Jun 2024)
EndedAt: 2024-06-09 21:37:03 -0400 (Sun, 09 Jun 2024)
EllapsedTime: 288.2 seconds
RetCode: 0
Status: WARNINGS
CheckDir: MineICA.Rcheck
Warnings: 3