Package: MineICA
Version: 1.44.0
Command: /Library/Frameworks/R.framework/Resources/bin/R CMD build --keep-empty-dirs --no-resave-data MineICA
StartedAt: 2024-06-09 17:16:26 -0400 (Sun, 09 Jun 2024)
EndedAt: 2024-06-09 17:18:28 -0400 (Sun, 09 Jun 2024)
EllapsedTime: 121.7 seconds
RetCode: 0
Status: OK
PackageFile: MineICA_1.44.0.tar.gz
PackageFileSize: 1.433 <A href="http://en.wikipedia.org/wiki/MiB" target="_blank">MiB</A>