Package: MineICA
Version: 1.44.0
Command: /home/biocbuild/R/R-beta-2024-04-15_r86425/bin/R CMD build --keep-empty-dirs --no-resave-data MineICA
StartedAt: 2024-05-09 01:39:58 -0000 (Thu, 09 May 2024)
EndedAt: 2024-05-09 01:42:22 -0000 (Thu, 09 May 2024)
EllapsedTime: 144.2 seconds
RetCode: 0
Status: OK
PackageFile: MineICA_1.44.0.tar.gz
PackageFileSize: 1.426 <A href="http://en.wikipedia.org/wiki/MiB" target="_blank">MiB</A>