Package: MicrobiotaProcess
Version: 1.16.1
Command: /home/biocbuild/bbs-3.19-bioc/R/bin/R CMD build --keep-empty-dirs --no-resave-data MicrobiotaProcess
StartedAt: 2024-10-16 19:28:17 -0400 (Wed, 16 Oct 2024)
EndedAt: 2024-10-16 19:30:46 -0400 (Wed, 16 Oct 2024)
EllapsedTime: 148.2 seconds
RetCode: 0
Status: OK
PackageFile: MicrobiotaProcess_1.16.1.tar.gz
PackageFileSize: 4.532 <A href="http://en.wikipedia.org/wiki/MiB" target="_blank">MiB</A>