##############################################################################
##############################################################################
###
### Running command:
###
###   /home/biocbuild/bbs-3.19-bioc/R/bin/R CMD build --keep-empty-dirs --no-resave-data MicrobiotaProcess
###
##############################################################################
##############################################################################


* checking for file ‘MicrobiotaProcess/DESCRIPTION’ ... OK
* preparing ‘MicrobiotaProcess’:
* checking DESCRIPTION meta-information ... OK
* installing the package to build vignettes
* creating vignettes ... OK
* checking for LF line-endings in source and make files and shell scripts
* checking for empty or unneeded directories
WARNING: directory ‘MicrobiotaProcess/inst/figures’ is empty
* looking to see if a ‘data/datalist’ file should be added
* building ‘MicrobiotaProcess_1.16.1.tar.gz’