Package: MicrobiotaProcess
Version: 1.16.1
Command: /Library/Frameworks/R.framework/Resources/bin/R CMD check --install=check:MicrobiotaProcess.install-out.txt --library=/Library/Frameworks/R.framework/Resources/library --no-vignettes --timings MicrobiotaProcess_1.16.1.tar.gz
StartedAt: 2024-10-17 08:29:36 -0400 (Thu, 17 Oct 2024)
EndedAt: 2024-10-17 09:01:31 -0400 (Thu, 17 Oct 2024)
EllapsedTime: 1915.5 seconds
RetCode: 0
Status: OK
CheckDir: MicrobiotaProcess.Rcheck
Warnings: 0