Package: MicrobiotaProcess
Version: 1.16.0
Command: /Library/Frameworks/R.framework/Resources/bin/R CMD INSTALL MicrobiotaProcess
StartedAt: 2024-06-09 16:59:24 -0400 (Sun, 09 Jun 2024)
EndedAt: 2024-06-09 17:00:35 -0400 (Sun, 09 Jun 2024)
EllapsedTime: 71.5 seconds
RetCode: 0
Status: OK