Package: MicrobiotaProcess
Version: 1.16.0
Command: rm -rf MicrobiotaProcess.buildbin-libdir && mkdir MicrobiotaProcess.buildbin-libdir && /Users/biocbuild/BBS/utils/build-universal.sh MicrobiotaProcess_1.16.0.tar.gz /Library/Frameworks/R.framework/Resources/bin/R MicrobiotaProcess.buildbin-libdir
StartedAt: 2024-06-11 12:03:18 -0400 (Tue, 11 Jun 2024)
EndedAt: 2024-06-11 12:05:22 -0400 (Tue, 11 Jun 2024)
EllapsedTime: 124.0 seconds
RetCode: 0
Status: OK
PackageFile: MicrobiotaProcess_1.16.0.tgz
PackageFileSize: 5.714 <A href="http://en.wikipedia.org/wiki/MiB" target="_blank">MiB</A>