Package: MicrobiomeProfiler
Version: 1.10.0
Command: F:\biocbuild\bbs-3.19-bioc\R\bin\R.exe CMD check --no-multiarch --install=check:MicrobiomeProfiler.install-out.txt --library=F:\biocbuild\bbs-3.19-bioc\R\library --no-vignettes --timings MicrobiomeProfiler_1.10.0.tar.gz
StartedAt: 2024-06-27 03:36:57 -0400 (Thu, 27 Jun 2024)
EndedAt: 2024-06-27 03:40:11 -0400 (Thu, 27 Jun 2024)
EllapsedTime: 193.8 seconds
RetCode: 0
Status: OK
CheckDir: MicrobiomeProfiler.Rcheck
Warnings: 0