Package: MicrobiomeProfiler Version: 1.10.0 Command: /Library/Frameworks/R.framework/Resources/bin/R CMD build --keep-empty-dirs --no-resave-data MicrobiomeProfiler StartedAt: 2024-06-10 00:34:22 -0400 (Mon, 10 Jun 2024) EndedAt: 2024-06-10 00:35:04 -0400 (Mon, 10 Jun 2024) EllapsedTime: 42.3 seconds RetCode: 0 Status: OK PackageFile: MicrobiomeProfiler_1.10.0.tar.gz PackageFileSize: 1.05 <A href="http://en.wikipedia.org/wiki/MiB" target="_blank">MiB</A>