Package: MiRaGE
Version: 1.46.0
Command: /Library/Frameworks/R.framework/Resources/bin/R CMD check --install=check:MiRaGE.install-out.txt --library=/Library/Frameworks/R.framework/Resources/library --no-vignettes --timings MiRaGE_1.46.0.tar.gz
StartedAt: 2024-06-10 22:13:00 -0400 (Mon, 10 Jun 2024)
EndedAt: 2024-06-10 22:16:08 -0400 (Mon, 10 Jun 2024)
EllapsedTime: 188.2 seconds
RetCode: 0
Status: WARNINGS
CheckDir: MiRaGE.Rcheck
Warnings: 1