Package: MiRaGE
Version: 1.46.0
Command: rm -rf MiRaGE.buildbin-libdir && mkdir MiRaGE.buildbin-libdir && /Users/biocbuild/BBS/utils/build-universal.sh MiRaGE_1.46.0.tar.gz /Library/Frameworks/R.framework/Resources/bin/R MiRaGE.buildbin-libdir
StartedAt: 2024-06-11 12:04:45 -0400 (Tue, 11 Jun 2024)
EndedAt: 2024-06-11 12:05:14 -0400 (Tue, 11 Jun 2024)
EllapsedTime: 28.9 seconds
RetCode: 0
Status: OK
PackageFile: MiRaGE_1.46.0.tgz
PackageFileSize: 1.352 <A href="http://en.wikipedia.org/wiki/MiB" target="_blank">MiB</A>