Package: MiRaGE
Version: 1.46.0
Command: rm -rf MiRaGE.buildbin-libdir && mkdir MiRaGE.buildbin-libdir && /Users/biocbuild/BBS/utils/build-universal.sh MiRaGE_1.46.0.tar.gz /Library/Frameworks/R.framework/Resources/bin/R MiRaGE.buildbin-libdir
StartedAt: 2024-10-18 19:28:01 -0400 (Fri, 18 Oct 2024)
EndedAt: 2024-10-18 19:28:20 -0400 (Fri, 18 Oct 2024)
EllapsedTime: 19.3 seconds
RetCode: 0
Status: OK
PackageFile: MiRaGE_1.46.0.tgz
PackageFileSize: 1.352 <A href="http://en.wikipedia.org/wiki/MiB" target="_blank">MiB</A>