Package: Mfuzz
Version: 2.64.0
Maintainer: Matthias Futschik
MaintainerEmail: matthias.futschik at sysbiolab.eu
git_url: https://git.bioconductor.org/packages/Mfuzz
git_branch: RELEASE_3_19
git_last_commit: 0cc5267
git_last_commit_date: 2024-04-30 10:15:01 -0400 (Tue, 30 Apr 2024)