Package: MethPed
Version: 1.32.0
Maintainer: Helena Carén
MaintainerEmail: helenacarenlab at gmail.com
git_url: https://git.bioconductor.org/packages/MethPed
git_branch: RELEASE_3_19
git_last_commit: 706aa1e
git_last_commit_date: 2024-04-30 10:48:47 -0400 (Tue, 30 Apr 2024)