Package: MetaboSignal
Version: 1.34.0
Maintainer: Andrea Rodriguez-Martinez
MaintainerEmail: andrea.rodriguez-martinez13 at imperial.ac.uk
git_url: https://git.bioconductor.org/packages/MetaboSignal
git_branch: RELEASE_3_19
git_last_commit: af68698
git_last_commit_date: 2024-04-30 10:53:24 -0400 (Tue, 30 Apr 2024)