Package: MetCirc
Version: 1.34.0
Maintainer: Thomas Naake
MaintainerEmail: thomasnaake at googlemail.com
git_url: https://git.bioconductor.org/packages/MetCirc
git_branch: RELEASE_3_19
git_last_commit: 52a8ee6
git_last_commit_date: 2024-04-30 10:51:47 -0400 (Tue, 30 Apr 2024)