##############################################################################
##############################################################################
###
### Running command:
###
###   E:\biocbuild\bbs-3.19-bioc\R\bin\R.exe CMD check --no-multiarch --install=check:MassArray.install-out.txt --library=E:\biocbuild\bbs-3.19-bioc\R\library --no-vignettes --timings MassArray_1.56.0.tar.gz
###
##############################################################################
##############################################################################


* using log directory 'E:/biocbuild/bbs-3.19-bioc/meat/MassArray.Rcheck'
* using R version 4.4.1 (2024-06-14 ucrt)
* using platform: x86_64-w64-mingw32
* R was compiled by
    gcc.exe (GCC) 13.2.0
    GNU Fortran (GCC) 13.2.0
* running under: Windows Server 2022 x64 (build 20348)
* using session charset: UTF-8
* using option '--no-vignettes'
* checking for file 'MassArray/DESCRIPTION' ... OK
* checking extension type ... Package
* this is package 'MassArray' version '1.56.0'
* checking package namespace information ... OK
* checking package dependencies ... OK
* checking if this is a source package ... OK
* checking if there is a namespace ... OK
* checking for hidden files and directories ... OK
* checking for portable file names ... OK
* checking whether package 'MassArray' can be installed ... OK
* checking installed package size ... OK
* checking package directory ... OK
* checking 'build' directory ... OK
* checking DESCRIPTION meta-information ... OK
* checking top-level files ... OK
* checking for left-over files ... OK
* checking index information ... OK
* checking package subdirectories ... OK
* checking code files for non-ASCII characters ... OK
* checking R files for syntax errors ... OK
* checking whether the package can be loaded ... OK
* checking whether the package can be loaded with stated dependencies ... OK
* checking whether the package can be unloaded cleanly ... OK
* checking whether the namespace can be loaded with stated dependencies ... OK
* checking whether the namespace can be unloaded cleanly ... OK
* checking dependencies in R code ... OK
* checking S3 generic/method consistency ... OK
* checking replacement functions ... OK
* checking foreign function calls ... OK
* checking R code for possible problems ... NOTE
calcMeth: warning in matrix(0, nr = 0, nc = N): partial argument match
  of 'nr' to 'nrow'
calcMeth: warning in matrix(0, nr = 0, nc = N): partial argument match
  of 'nc' to 'ncol'
calcMeth: warning in matrix(0, nr = num.SNRs, nc = N): partial argument
  match of 'nr' to 'nrow'
calcMeth: warning in matrix(0, nr = num.SNRs, nc = N): partial argument
  match of 'nc' to 'ncol'
calcMeth: warning in matrix(0, nr = num.missing, nc = N): partial
  argument match of 'nr' to 'nrow'
calcMeth: warning in matrix(0, nr = num.missing, nc = N): partial
  argument match of 'nc' to 'ncol'
calcMeth: warning in matrix(0, nr = length(na.coefs), nc = N): partial
  argument match of 'nr' to 'nrow'
calcMeth: warning in matrix(0, nr = length(na.coefs), nc = N): partial
  argument match of 'nc' to 'ncol'
calcMeth : optimizeCoefficients: warning in matrix(0, nr =
  num.fragments, nc = N): partial argument match of 'nr' to 'nrow'
calcMeth : optimizeCoefficients: warning in matrix(0, nr =
  num.fragments, nc = N): partial argument match of 'nc' to 'ncol'
calcMeth : optimizeCoefficients: warning in matrix(NA, nr =
  length(coefs) + 1, nc = length(coefs)): partial argument match of
  'nr' to 'nrow'
calcMeth : optimizeCoefficients: warning in matrix(NA, nr =
  length(coefs) + 1, nc = length(coefs)): partial argument match of
  'nc' to 'ncol'
$<-,MassArrayData: no visible global function definition for 'slot<-'
$<-,MassArrayFragment: no visible global function definition for
  'slot<-'
$<-,MassArrayPeak: no visible global function definition for 'slot<-'
$<-,MassArraySpectrum: no visible global function definition for
  'slot<-'
initialize,MassArrayData: no visible global function definition for
  'read.table'
Undefined global functions or variables:
  read.table slot<-
Consider adding
  importFrom("methods", "slot<-")
  importFrom("utils", "read.table")
to your NAMESPACE file (and ensure that your DESCRIPTION Imports field
contains 'methods').
* checking Rd files ... NOTE
checkRd: (-1) MassArrayData-class.Rd:37: Escaped LaTeX specials: \$
checkRd: (-1) MassArrayData-class.Rd:38: Escaped LaTeX specials: \$
checkRd: (-1) MassArrayFragment-class.Rd:40: Escaped LaTeX specials: \$
checkRd: (-1) MassArrayFragment-class.Rd:41: Escaped LaTeX specials: \$
checkRd: (-1) MassArrayPeak-class.Rd:35: Escaped LaTeX specials: \$
checkRd: (-1) MassArrayPeak-class.Rd:36: Escaped LaTeX specials: \$
checkRd: (-1) MassArraySpectrum-class.Rd:28: Escaped LaTeX specials: \$
checkRd: (-1) MassArraySpectrum-class.Rd:29: Escaped LaTeX specials: \$
* checking Rd metadata ... OK
* checking Rd cross-references ... OK
* checking for missing documentation entries ... OK
* checking for code/documentation mismatches ... OK
* checking Rd \usage sections ... OK
* checking Rd contents ... OK
* checking for unstated dependencies in examples ... OK
* checking contents of 'data' directory ... OK
* checking data for non-ASCII characters ... OK
* checking LazyData ... OK
* checking data for ASCII and uncompressed saves ... OK
* checking sizes of PDF files under 'inst/doc' ... OK
* checking files in 'vignettes' ... OK
* checking examples ... OK
Examples with CPU (user + system) or elapsed time > 5s
              user system elapsed
evaluateSNPs 15.89   2.06   17.95
* checking for unstated dependencies in vignettes ... OK
* checking package vignettes ... OK
* checking running R code from vignettes ... SKIPPED
* checking re-building of vignette outputs ... SKIPPED
* checking PDF version of manual ... OK
* DONE

Status: 2 NOTEs
See
  'E:/biocbuild/bbs-3.19-bioc/meat/MassArray.Rcheck/00check.log'
for details.