##############################################################################
##############################################################################
###
### Running command:
###
###   rm -rf MassArray.buildbin-libdir && mkdir MassArray.buildbin-libdir && E:\biocbuild\bbs-3.19-bioc\R\bin\R.exe CMD INSTALL --build --library=MassArray.buildbin-libdir MassArray_1.56.0.tar.gz
###
##############################################################################
##############################################################################


* installing *source* package 'MassArray' ...
** using staged installation
** R
** data
*** moving datasets to lazyload DB
** inst
** byte-compile and prepare package for lazy loading
** help
*** installing help indices
** building package indices
** installing vignettes
** testing if installed package can be loaded from temporary location
** testing if installed package can be loaded from final location
** testing if installed package keeps a record of temporary installation path
* MD5 sums
packaged installation of 'MassArray' as MassArray_1.56.0.zip
* DONE (MassArray)