Package: MassArray
Version: 1.56.0
Command: /Library/Frameworks/R.framework/Resources/bin/R CMD check --install=check:MassArray.install-out.txt --library=/Library/Frameworks/R.framework/Resources/library --no-vignettes --timings MassArray_1.56.0.tar.gz
StartedAt: 2024-10-17 07:40:28 -0400 (Thu, 17 Oct 2024)
EndedAt: 2024-10-17 07:42:27 -0400 (Thu, 17 Oct 2024)
EllapsedTime: 119.3 seconds
RetCode: 0
Status: OK
CheckDir: MassArray.Rcheck
Warnings: 0