Package: Maaslin2
Version: 1.18.0
Maintainer: Lauren McIver
MaintainerEmail: lauren.j.mciver at gmail.com
git_url: https://git.bioconductor.org/packages/Maaslin2
git_branch: RELEASE_3_19
git_last_commit: 35350f9
git_last_commit_date: 2024-04-30 11:16:06 -0400 (Tue, 30 Apr 2024)