Package: MWASTools
Version: 1.28.0
Command: E:\biocbuild\bbs-3.19-bioc\R\bin\R.exe CMD INSTALL MWASTools
StartedAt: 2024-10-16 17:00:11 -0400 (Wed, 16 Oct 2024)
EndedAt: 2024-10-16 17:00:55 -0400 (Wed, 16 Oct 2024)
EllapsedTime: 43.6 seconds
RetCode: 0
Status: OK