Package: MWASTools
Version: 1.28.0
Command: chmod a+r MWASTools -R && E:\biocbuild\bbs-3.19-bioc\R\bin\R.exe CMD build --keep-empty-dirs --no-resave-data MWASTools
StartedAt: 2024-10-16 20:38:27 -0400 (Wed, 16 Oct 2024)
EndedAt: 2024-10-16 20:40:11 -0400 (Wed, 16 Oct 2024)
EllapsedTime: 104.1 seconds
RetCode: 0
Status: OK
PackageFile: MWASTools_1.28.0.tar.gz
PackageFileSize: 1.699 <A href="http://en.wikipedia.org/wiki/MiB" target="_blank">MiB</A>