Package: MWASTools Version: 1.28.0 Command: rm -rf MWASTools.buildbin-libdir && mkdir MWASTools.buildbin-libdir && E:\biocbuild\bbs-3.19-bioc\R\bin\R.exe CMD INSTALL --build --library=MWASTools.buildbin-libdir MWASTools_1.28.0.tar.gz StartedAt: 2024-10-17 08:14:21 -0400 (Thu, 17 Oct 2024) EndedAt: 2024-10-17 08:15:10 -0400 (Thu, 17 Oct 2024) EllapsedTime: 48.9 seconds RetCode: 0 Status: OK PackageFile: MWASTools_1.28.0.zip PackageFileSize: 1.564 <A href="http://en.wikipedia.org/wiki/MiB" target="_blank">MiB</A>