Package: MWASTools
Version: 1.28.0
Command: /home/biocbuild/R/R-beta-2024-04-15_r86425/bin/R CMD check --install=check:MWASTools.install-out.txt --library=/home/biocbuild/R/R-beta-2024-04-15_r86425/site-library --no-vignettes --timings MWASTools_1.28.0.tar.gz
StartedAt: 2024-05-09 09:57:12 -0000 (Thu, 09 May 2024)
EndedAt: 2024-05-09 10:02:10 -0000 (Thu, 09 May 2024)
EllapsedTime: 297.7 seconds
RetCode: 0
Status: OK
CheckDir: MWASTools.Rcheck
Warnings: 0