Package: MSstatsTMT Version: 2.12.1 Maintainer: Devon Kohler MaintainerEmail: kohler.d at northeastern.edu git_url: https://git.bioconductor.org/packages/MSstatsTMT git_branch: RELEASE_3_19 git_last_commit: 0c2b7dc git_last_commit_date: 2024-05-20 18:00:17 -0400 (Mon, 20 May 2024)