Package: MSstatsQC
Version: 2.22.0
Maintainer: Eralp Dogu
MaintainerEmail: eralp.dogu at gmail.com
git_url: https://git.bioconductor.org/packages/MSstatsQC
git_branch: RELEASE_3_19
git_last_commit: 708ecb1
git_last_commit_date: 2024-04-30 11:00:55 -0400 (Tue, 30 Apr 2024)