Package: MSstatsPTM
Version: 2.6.0
Command: rm -rf MSstatsPTM.buildbin-libdir && mkdir MSstatsPTM.buildbin-libdir && /Users/biocbuild/BBS/utils/build-universal.sh MSstatsPTM_2.6.0.tar.gz /Library/Frameworks/R.framework/Resources/bin/R MSstatsPTM.buildbin-libdir
StartedAt: 2024-06-10 00:28:48 -0400 (Mon, 10 Jun 2024)
EndedAt: 2024-06-10 00:29:30 -0400 (Mon, 10 Jun 2024)
EllapsedTime: 42.0 seconds
RetCode: 0
Status: OK
PackageFile: MSstatsPTM_2.6.0.tgz
PackageFileSize: 3.191 <A href="http://en.wikipedia.org/wiki/MiB" target="_blank">MiB</A>