Package: MSstatsConvert
Version: 1.14.0
Command: F:\biocbuild\bbs-3.19-bioc\R\bin\R.exe CMD check --no-multiarch --install=check:MSstatsConvert.install-out.txt --library=F:\biocbuild\bbs-3.19-bioc\R\library --no-vignettes --timings MSstatsConvert_1.14.0.tar.gz
StartedAt: 2024-06-27 03:58:58 -0400 (Thu, 27 Jun 2024)
EndedAt: 2024-06-27 03:59:54 -0400 (Thu, 27 Jun 2024)
EllapsedTime: 55.1 seconds
RetCode: 0
Status: OK
CheckDir: MSstatsConvert.Rcheck
Warnings: 0