Package: MSstatsConvert
Version: 1.14.0
Command: chmod a+r MSstatsConvert -R && F:\biocbuild\bbs-3.19-bioc\R\bin\R.exe CMD build --keep-empty-dirs --no-resave-data MSstatsConvert
StartedAt: 2024-06-26 20:20:05 -0400 (Wed, 26 Jun 2024)
EndedAt: 2024-06-26 20:20:28 -0400 (Wed, 26 Jun 2024)
EllapsedTime: 23.5 seconds
RetCode: 0
Status: OK
PackageFile: MSstatsConvert_1.14.0.tar.gz
PackageFileSize: 1.775 <A href="http://en.wikipedia.org/wiki/MiB" target="_blank">MiB</A>