Package: MSstatsConvert
Version: 1.14.0
Command: /Library/Frameworks/R.framework/Resources/bin/R CMD INSTALL MSstatsConvert
StartedAt: 2024-10-16 15:10:54 -0400 (Wed, 16 Oct 2024)
EndedAt: 2024-10-16 15:11:11 -0400 (Wed, 16 Oct 2024)
EllapsedTime: 16.3 seconds
RetCode: 0
Status: OK