Package: MSstatsConvert
Version: 1.14.0
Command: /Library/Frameworks/R.framework/Resources/bin/R CMD check --install=check:MSstatsConvert.install-out.txt --library=/Library/Frameworks/R.framework/Resources/library --no-vignettes --timings MSstatsConvert_1.14.0.tar.gz
StartedAt: 2024-10-17 09:39:39 -0400 (Thu, 17 Oct 2024)
EndedAt: 2024-10-17 09:41:23 -0400 (Thu, 17 Oct 2024)
EllapsedTime: 103.9 seconds
RetCode: 0
Status: OK
CheckDir: MSstatsConvert.Rcheck
Warnings: 0