Package: MSstatsConvert
Version: 1.14.0
Command: /Library/Frameworks/R.framework/Resources/bin/R CMD build --keep-empty-dirs --no-resave-data MSstatsConvert
StartedAt: 2024-10-16 21:23:02 -0400 (Wed, 16 Oct 2024)
EndedAt: 2024-10-16 21:23:29 -0400 (Wed, 16 Oct 2024)
EllapsedTime: 27.2 seconds
RetCode: 0
Status: OK
PackageFile: MSstatsConvert_1.14.0.tar.gz
PackageFileSize: 1.775 <A href="http://en.wikipedia.org/wiki/MiB" target="_blank">MiB</A>