Package: MSstatsConvert
Version: 1.14.0
Command: rm -rf MSstatsConvert.buildbin-libdir && mkdir MSstatsConvert.buildbin-libdir && /Users/biocbuild/BBS/utils/build-universal.sh MSstatsConvert_1.14.0.tar.gz /Library/Frameworks/R.framework/Resources/bin/R MSstatsConvert.buildbin-libdir
StartedAt: 2024-10-17 16:41:02 -0400 (Thu, 17 Oct 2024)
EndedAt: 2024-10-17 16:41:16 -0400 (Thu, 17 Oct 2024)
EllapsedTime: 14.2 seconds
RetCode: 0
Status: OK
PackageFile: MSstatsConvert_1.14.0.tgz
PackageFileSize: 2.068 <A href="http://en.wikipedia.org/wiki/MiB" target="_blank">MiB</A>