Package: MSstatsConvert
Version: 1.14.0
Command: /Library/Frameworks/R.framework/Resources/bin/R CMD INSTALL MSstatsConvert
StartedAt: 2024-10-16 15:46:12 -0400 (Wed, 16 Oct 2024)
EndedAt: 2024-10-16 15:46:17 -0400 (Wed, 16 Oct 2024)
EllapsedTime: 5.0 seconds
RetCode: 0
Status: OK