Package: MSstats
Version: 4.12.1
Maintainer: Meena Choi
MaintainerEmail: mnchoi67 at gmail.com
git_url: https://git.bioconductor.org/packages/MSstats
git_branch: RELEASE_3_19
git_last_commit: da06fd0
git_last_commit_date: 2024-07-19 10:14:49 -0400 (Fri, 19 Jul 2024)