Package: MSPrep
Version: 1.14.0
Maintainer: Max McGrath
MaintainerEmail: max.mcgrath at ucdenver.edu
git_url: https://git.bioconductor.org/packages/MSPrep
git_branch: RELEASE_3_19
git_last_commit: 9f75893
git_last_commit_date: 2024-04-30 11:27:43 -0400 (Tue, 30 Apr 2024)