Package: MQmetrics
Version: 1.12.0
Maintainer: Alvaro Sanchez-Villalba
MaintainerEmail: sanchezvillalba.alvaro at gmail.com
git_url: https://git.bioconductor.org/packages/MQmetrics
git_branch: RELEASE_3_19
git_last_commit: afdcbbc
git_last_commit_date: 2024-04-30 11:34:13 -0400 (Tue, 30 Apr 2024)