Package: MOFA2
Version: 1.14.0
Maintainer: Ricard Argelaguet
MaintainerEmail: ricard.argelaguet at gmail.com
git_url: https://git.bioconductor.org/packages/MOFA2
git_branch: RELEASE_3_19
git_last_commit: f09c92e
git_last_commit_date: 2024-04-30 11:28:22 -0400 (Tue, 30 Apr 2024)