Package: MMUPHin Version: 1.18.1 Command: E:\biocbuild\bbs-3.19-bioc\R\bin\R.exe CMD INSTALL MMUPHin StartedAt: 2024-10-16 16:59:17 -0400 (Wed, 16 Oct 2024) EndedAt: 2024-10-16 16:59:42 -0400 (Wed, 16 Oct 2024) EllapsedTime: 25.0 seconds RetCode: 0 Status: OK